BEGIN:VCALENDAR
VERSION:2.0
PRODID:-//DIOCESI DI ROMA - ECPv4.6.14.1//NONSGML v1.0//EN
CALSCALE:GREGORIAN
METHOD:PUBLISH
X-WR-CALNAME:DIOCESI DI ROMA
X-ORIGINAL-URL:https://www.diocesidiroma.it
X-WR-CALDESC:Eventi per DIOCESI DI ROMA
BEGIN:VEVENT
DTSTART;TZID=Europe/Rome:20180921T120000
DTEND;TZID=Europe/Rome:20180921T120000
DTSTAMP:20260424T073552
CREATED:20180917T100743Z
LAST-MODIFIED:20180917T100743Z
UID:4609-1537531200-1537531200@www.diocesidiroma.it
SUMMARY:Apertura della causa di beatificazione e canonizzazione di Chiara Corbella
DESCRIPTION:Nella Basilica di San Giovanni in Laterano il cardinale vicario Angelo De Donatis presieda la sessione di apertura della causa di beatificazione e canonizzazione della Serva di Dio Chiara Corbella. \n
URL:https://www.diocesidiroma.it/event/apertura-della-causa-di-beatificazione-e-canonizzazione-di-chiara-corbella/
CATEGORIES:In Diocesi
END:VEVENT
END:VCALENDAR