BEGIN:VCALENDAR
VERSION:2.0
PRODID:-//DIOCESI DI ROMA - ECPv4.6.14.1//NONSGML v1.0//EN
CALSCALE:GREGORIAN
METHOD:PUBLISH
X-WR-CALNAME:DIOCESI DI ROMA
X-ORIGINAL-URL:https://www.diocesidiroma.it
X-WR-CALDESC:Eventi per DIOCESI DI ROMA
BEGIN:VEVENT
DTSTART;TZID=Europe/Rome:20251004T100000
DTEND;TZID=Europe/Rome:20251004T100000
DTSTAMP:20260421T182937
CREATED:20250926T091652Z
LAST-MODIFIED:20250926T091652Z
UID:37422-1759572000-1759572000@www.diocesidiroma.it
SUMMARY:Apertura dell’anno pastorale della Caritas presso la Sala Tiberiade del Seminario Romano Maggiore
DESCRIPTION:Apertura dell’anno pastorale della Caritas presso la Sala Tiberiade del Seminario Romano Maggiore \n
URL:https://www.diocesidiroma.it/event/apertura-dellanno-pastorale-della-caritas-presso-la-sala-tiberiade-del-seminario-romano-maggiore/
CATEGORIES:Vicario Generale
END:VEVENT
END:VCALENDAR