BEGIN:VCALENDAR
VERSION:2.0
PRODID:-//DIOCESI DI ROMA - ECPv4.6.14.1//NONSGML v1.0//EN
CALSCALE:GREGORIAN
METHOD:PUBLISH
X-WR-CALNAME:DIOCESI DI ROMA
X-ORIGINAL-URL:https://www.diocesidiroma.it
X-WR-CALDESC:Eventi per DIOCESI DI ROMA
BEGIN:VEVENT
DTSTART;VALUE=DATE:20250105
DTEND;VALUE=DATE:20250106
DTSTAMP:20260424T034007
CREATED:20241118T121135Z
LAST-MODIFIED:20241220T103306Z
UID:32055-1736035200-1736121599@www.diocesidiroma.it
SUMMARY:Ore 10:00 Apertura Porta Santa Basilica di San Paolo fuori le Mura
DESCRIPTION:Ore 10:00 Apertura Porta Santa Basilica di San Paolo fuori le Mura \nLe informazioni per la partecipazione possono essere consultate al seguente link \nhttps://basilicasanpaolo.org/apertura-della-porta-santa/ \n
URL:https://www.diocesidiroma.it/event/apertura-porta-santa-di-san-paolo-fuori-le-mura/
CATEGORIES:Iniziative Giubileo 25
END:VEVENT
END:VCALENDAR