BEGIN:VCALENDAR
VERSION:2.0
PRODID:-//DIOCESI DI ROMA - ECPv4.6.14.1//NONSGML v1.0//EN
CALSCALE:GREGORIAN
METHOD:PUBLISH
X-WR-CALNAME:DIOCESI DI ROMA
X-ORIGINAL-URL:https://www.diocesidiroma.it
X-WR-CALDESC:Eventi per DIOCESI DI ROMA
BEGIN:VEVENT
DTSTART;TZID=Europe/Rome:20241229T100000
DTEND;TZID=Europe/Rome:20241229T100000
DTSTAMP:20260425T024050
CREATED:20241220T074446Z
LAST-MODIFIED:20241220T074538Z
UID:32784-1735466400-1735466400@www.diocesidiroma.it
SUMMARY:Apertura Porta Santa - San Giovanni in Laterano
DESCRIPTION:Apertura Porta Santa – San Giovanni in Laterano \n
URL:https://www.diocesidiroma.it/event/apertura-porta-santa-san-giovanni-in-laterano/
CATEGORIES:Vicario Generale
END:VEVENT
END:VCALENDAR