BEGIN:VCALENDAR
VERSION:2.0
PRODID:-//DIOCESI DI ROMA - ECPv4.6.14.1//NONSGML v1.0//EN
CALSCALE:GREGORIAN
METHOD:PUBLISH
X-WR-CALNAME:DIOCESI DI ROMA
X-ORIGINAL-URL:https://www.diocesidiroma.it
X-WR-CALDESC:Eventi per DIOCESI DI ROMA
BEGIN:VEVENT
DTSTART;TZID=Europe/Rome:20260212T210000
DTEND;TZID=Europe/Rome:20260212T223000
DTSTAMP:20260422T055934
CREATED:20250919T091710Z
LAST-MODIFIED:20251001T072018Z
UID:37333-1770930000-1770935400@www.diocesidiroma.it
SUMMARY:Apostolato biblico. Corso di formazione biblica "L'utilizzo dell'Antico Testamento nella catechesi" II incontro online (Uff. per la Catechesi)
DESCRIPTION:Apostolato biblico. Corso di formazione biblica “L’utilizzo dell’Antico Testamento nella catechesi” II incontro online (Uff. per la Catechesi) \n
URL:https://www.diocesidiroma.it/event/apostolato-biblico-corso-di-formazione-biblica-lutilizzo-dellantico-testamento-nella-catechesi-ii-incontro-online-uff-per-la-catechesi/
CATEGORIES:In Diocesi,Iniziative degli Uffici
END:VEVENT
END:VCALENDAR