BEGIN:VCALENDAR
VERSION:2.0
PRODID:-//DIOCESI DI ROMA - ECPv4.6.14.1//NONSGML v1.0//EN
CALSCALE:GREGORIAN
METHOD:PUBLISH
X-WR-CALNAME:DIOCESI DI ROMA
X-ORIGINAL-URL:https://www.diocesidiroma.it
X-WR-CALDESC:Eventi per DIOCESI DI ROMA
BEGIN:VEVENT
DTSTART;TZID=Europe/Rome:20180924T083000
DTEND;TZID=Europe/Rome:20180924T083000
DTSTAMP:20260422T223732
CREATED:20180921T125415Z
LAST-MODIFIED:20180921T125415Z
UID:4722-1537777800-1537777800@www.diocesidiroma.it
SUMMARY:Apre il Corso di Formazione su Matrimonio e Famiglia
DESCRIPTION:Nella Basilica Lateranense apre il Corso di Formazione su Matrimonio e Famiglia per parroci\, diaconi permanenti\, sposi e operatori della pastorale familiare promosso dalla Diocesi di Roma e dalla Rota Romana. \n
URL:https://www.diocesidiroma.it/event/apre-il-corso-di-formazione-su-matrimonio-e-famiglia/
CATEGORIES:NON USARE --- Agenda del Vicario
END:VEVENT
END:VCALENDAR