BEGIN:VCALENDAR
VERSION:2.0
PRODID:-//DIOCESI DI ROMA - ECPv4.6.14.1//NONSGML v1.0//EN
CALSCALE:GREGORIAN
METHOD:PUBLISH
X-WR-CALNAME:DIOCESI DI ROMA
X-ORIGINAL-URL:https://www.diocesidiroma.it
X-WR-CALDESC:Eventi per DIOCESI DI ROMA
BEGIN:VEVENT
DTSTART;TZID=Europe/Rome:20240119T193000
DTEND;TZID=Europe/Rome:20240119T213000
DTSTAMP:20260421T025349
CREATED:20240102T110823Z
LAST-MODIFIED:20240102T110823Z
UID:28271-1705692600-1705699800@www.diocesidiroma.it
SUMMARY:"Ascoltando i maestri" - A. Huxley\, Mondo nuovo. Distopie - Parrocchia San Tommaso Moro (Uff. past. universitaria)
DESCRIPTION:“Ascoltando i maestri” – A. Huxley\, Mondo nuovo. Distopie – Parrocchia San Tommaso Moro (Uff. past. universitaria) \n
URL:https://www.diocesidiroma.it/event/ascoltando-i-maestri-a-huxley-mondo-nuovo-distopie-parrocchia-san-tommaso-moro-uff-past-universitaria/
CATEGORIES:In Diocesi,Iniziative degli Uffici
END:VEVENT
END:VCALENDAR