BEGIN:VCALENDAR
VERSION:2.0
PRODID:-//DIOCESI DI ROMA - ECPv4.6.14.1//NONSGML v1.0//EN
CALSCALE:GREGORIAN
METHOD:PUBLISH
X-WR-CALNAME:DIOCESI DI ROMA
X-ORIGINAL-URL:https://www.diocesidiroma.it
X-WR-CALDESC:Eventi per DIOCESI DI ROMA
BEGIN:VEVENT
DTSTART;TZID=Europe/Rome:20231103T193000
DTEND;TZID=Europe/Rome:20231103T193000
DTSTAMP:20260420T220414
CREATED:20231024T123646Z
LAST-MODIFIED:20231024T123646Z
UID:27718-1699039800-1699039800@www.diocesidiroma.it
SUMMARY:Ascoltando i maestri: “Elena e Costantino. Dal mito alla storia”. (Uff. per la pastorale universitaria e Uff. per la pastorale del tempo libero\, del turismo e dello sport)
DESCRIPTION:Ascoltando i maestri: “Elena e Costantino. Dal mito alla storia”. (Uff. per la pastorale universitaria e Uff. per la pastorale del tempo libero\, del turismo e dello sport)\, a Santa Croce in Gerusalemme \n
URL:https://www.diocesidiroma.it/event/ascoltando-i-maestri-elena-e-costantino-dal-mito-alla-storia-uff-per-la-pastorale-universitaria-e-uff-per-la-pastorale-del-tempo-libero-del-turismo-e-dello-sport/
CATEGORIES:In Diocesi,Iniziative degli Uffici
END:VEVENT
END:VCALENDAR