BEGIN:VCALENDAR
VERSION:2.0
PRODID:-//DIOCESI DI ROMA - ECPv4.6.14.1//NONSGML v1.0//EN
CALSCALE:GREGORIAN
METHOD:PUBLISH
X-WR-CALNAME:DIOCESI DI ROMA
X-ORIGINAL-URL:https://www.diocesidiroma.it
X-WR-CALDESC:Eventi per DIOCESI DI ROMA
BEGIN:VEVENT
DTSTART;TZID=Europe/Rome:20231103T193000
DTEND;TZID=Europe/Rome:20231103T213000
DTSTAMP:20260420T183806
CREATED:20231006T084106Z
LAST-MODIFIED:20231006T084111Z
UID:27511-1699039800-1699047000@www.diocesidiroma.it
SUMMARY:"Ascoltando i maestri" - Elena e Costantino - Spettacolo di presentazione del progetto di accessibilità sensoriale - parrocchia Santa Croce in Gerusalemme - (Uff. past. tempo libero\, turismo e sport e Uff. past. universitaria)
DESCRIPTION:“Ascoltando i maestri” – Elena e Costantino – Spettacolo di presentazione del progetto di accessibilità sensoriale – parrocchia Santa Croce in Gerusalemme – (Uff. past. tempo libero\, turismo e sport e Uff. past. universitaria) \n
URL:https://www.diocesidiroma.it/event/ascoltando-i-maestri-elena-e-costantino-spettacolo-di-presentazione-del-progetto-di-accessibilita-sensoriale-parrocchia-santa-croce-in-gerusalemme-uff-past-tempo-libero-turismo-e-sport/
CATEGORIES:In Diocesi,Iniziative degli Uffici
END:VEVENT
END:VCALENDAR