BEGIN:VCALENDAR
VERSION:2.0
PRODID:-//DIOCESI DI ROMA - ECPv4.6.14.1//NONSGML v1.0//EN
CALSCALE:GREGORIAN
METHOD:PUBLISH
X-WR-CALNAME:DIOCESI DI ROMA
X-ORIGINAL-URL:https://www.diocesidiroma.it
X-WR-CALDESC:Eventi per DIOCESI DI ROMA
BEGIN:VEVENT
DTSTART;TZID=Europe/Rome:20240217T193000
DTEND;TZID=Europe/Rome:20240217T213000
DTSTAMP:20260422T142853
CREATED:20240122T122410Z
LAST-MODIFIED:20240122T122410Z
UID:28622-1708198200-1708205400@www.diocesidiroma.it
SUMMARY:"Ascoltando i maestri" - Giornata dell'AFAM (Uff. past. universitaria)
DESCRIPTION:“Ascoltando i maestri” – Giornata dell’AFAM (Uff. past. universitaria) \n
URL:https://www.diocesidiroma.it/event/ascoltando-i-maestri-giornata-dellafam-uff-past-universitaria/
CATEGORIES:Iniziative degli Uffici
END:VEVENT
END:VCALENDAR