BEGIN:VCALENDAR
VERSION:2.0
PRODID:-//DIOCESI DI ROMA - ECPv4.6.14.1//NONSGML v1.0//EN
CALSCALE:GREGORIAN
METHOD:PUBLISH
X-WR-CALNAME:DIOCESI DI ROMA
X-ORIGINAL-URL:https://www.diocesidiroma.it
X-WR-CALDESC:Eventi per DIOCESI DI ROMA
BEGIN:VEVENT
DTSTART;TZID=Europe/Rome:20220506T193000
DTEND;TZID=Europe/Rome:20220506T193000
DTSTAMP:20260421T011927
CREATED:20220204T105455Z
LAST-MODIFIED:20220204T105455Z
UID:20222-1651865400-1651865400@www.diocesidiroma.it
SUMMARY:"Ascoltando i maestri": incontro su De Saint- Exupéry nella chiesa del Gesù\, promosso dall'Ufficio per la cultura e l'università
DESCRIPTION:“Ascoltando i maestri”: incontro su De Saint- Exupéry nella chiesa del Gesù\, promosso dall’Ufficio per la cultura e l’università \n
URL:https://www.diocesidiroma.it/event/ascoltando-i-maestri-incontro-su-de-saint-exupery-nella-chiesa-del-gesu-promosso-dallufficio-per-la-cultura-e-luniversita/
CATEGORIES:Iniziative degli Uffici
END:VEVENT
END:VCALENDAR