BEGIN:VCALENDAR
VERSION:2.0
PRODID:-//DIOCESI DI ROMA - ECPv4.6.14.1//NONSGML v1.0//EN
CALSCALE:GREGORIAN
METHOD:PUBLISH
X-WR-CALNAME:DIOCESI DI ROMA
X-ORIGINAL-URL:https://www.diocesidiroma.it
X-WR-CALDESC:Eventi per DIOCESI DI ROMA
BEGIN:VEVENT
DTSTART;TZID=Europe/Rome:20260127T193000
DTEND;TZID=Europe/Rome:20260127T193000
DTSTAMP:20260422T031633
CREATED:20250911T093542Z
LAST-MODIFIED:20250911T093542Z
UID:37149-1769542200-1769542200@www.diocesidiroma.it
SUMMARY:Ascoltando i Maestri Incontro su Etty Hillesum presso S. Maria in Campitelli (Uff. per la Pastorale universitaria)
DESCRIPTION:Ascoltando i Maestri Incontro su Etty Hillesum presso S. Maria in Campitelli (Uff. per la Pastorale universitaria) \n
URL:https://www.diocesidiroma.it/event/ascoltando-i-maestri-incontro-su-etty-hillesum-presso-s-maria-in-campitelli-uff-per-la-pastorale-universitaria/
CATEGORIES:In Diocesi,Iniziative degli Uffici
END:VEVENT
END:VCALENDAR