BEGIN:VCALENDAR
VERSION:2.0
PRODID:-//DIOCESI DI ROMA - ECPv4.6.14.1//NONSGML v1.0//EN
CALSCALE:GREGORIAN
METHOD:PUBLISH
X-WR-CALNAME:DIOCESI DI ROMA
X-ORIGINAL-URL:https://www.diocesidiroma.it
X-WR-CALDESC:Eventi per DIOCESI DI ROMA
BEGIN:VEVENT
DTSTART;TZID=Europe/Rome:20260417T183000
DTEND;TZID=Europe/Rome:20260417T183000
DTSTAMP:20260421T053516
CREATED:20251001T131620Z
LAST-MODIFIED:20251031T142442Z
UID:37594-1776450600-1776450600@www.diocesidiroma.it
SUMMARY:Ascoltando i Maestri Incontro su Giuseppe Ungaretti
DESCRIPTION:Ascoltando i Maestri Incontro su Giuseppe Ungaretti a San Saba (Uff. per la Pastorale universitaria) \n
URL:https://www.diocesidiroma.it/event/ascoltando-i-maestri-incontro-su-giuseppe-ungaretti/
CATEGORIES:In Diocesi,Iniziative degli Uffici
END:VEVENT
END:VCALENDAR