BEGIN:VCALENDAR
VERSION:2.0
PRODID:-//DIOCESI DI ROMA - ECPv4.6.14.1//NONSGML v1.0//EN
CALSCALE:GREGORIAN
METHOD:PUBLISH
X-WR-CALNAME:DIOCESI DI ROMA
X-ORIGINAL-URL:https://www.diocesidiroma.it
X-WR-CALDESC:Eventi per DIOCESI DI ROMA
BEGIN:VEVENT
DTSTART;TZID=Europe/Rome:20220408T193000
DTEND;TZID=Europe/Rome:20220408T193000
DTSTAMP:20260420T200407
CREATED:20220204T104206Z
LAST-MODIFIED:20220204T105153Z
UID:20211-1649446200-1649446200@www.diocesidiroma.it
SUMMARY:"Ascoltando i maestri": incontro su Harry Potter nella chiesa di Sant'Andrea della Valle\, promosso dall'Ufficio per la cultura e l'università
DESCRIPTION:“Ascoltando i maestri”: incontro su Harry Potter nella chiesa di Sant’Andrea della Valle\, promosso dall’Ufficio per la cultura e l’università \n
URL:https://www.diocesidiroma.it/event/ascoltando-i-maestri-incontro-su-harry-potter-nella-chiesa-di-santandrea-della-valle-promosso-dallufficio-per-la-cultura-e-luniversita/
CATEGORIES:Iniziative degli Uffici
END:VEVENT
END:VCALENDAR