BEGIN:VCALENDAR
VERSION:2.0
PRODID:-//DIOCESI DI ROMA - ECPv4.6.14.1//NONSGML v1.0//EN
CALSCALE:GREGORIAN
METHOD:PUBLISH
X-WR-CALNAME:DIOCESI DI ROMA
X-ORIGINAL-URL:https://www.diocesidiroma.it
X-WR-CALDESC:Eventi per DIOCESI DI ROMA
BEGIN:VEVENT
DTSTART;TZID=Europe/Rome:20251107T194500
DTEND;TZID=Europe/Rome:20251107T203000
DTSTAMP:20260424T051753
CREATED:20250910T105817Z
LAST-MODIFIED:20251031T140228Z
UID:36916-1762544700-1762547400@www.diocesidiroma.it
SUMMARY:Ascoltando i Maestri - incontro su Pier Paolo Pasolini
DESCRIPTION:Ascoltando i Maestri Incontro su Pier Paolo Pasolini a San Gregorio Magno alla Magliana ore 19.45 (Uff. per la Pastorale universitaria) \n
URL:https://www.diocesidiroma.it/event/ascoltando-i-maestri-incontro-su-pier-paolo-pasolini/
CATEGORIES:Iniziative degli Uffici
END:VEVENT
END:VCALENDAR