BEGIN:VCALENDAR
VERSION:2.0
PRODID:-//DIOCESI DI ROMA - ECPv4.6.14.1//NONSGML v1.0//EN
CALSCALE:GREGORIAN
METHOD:PUBLISH
X-WR-CALNAME:DIOCESI DI ROMA
X-ORIGINAL-URL:https://www.diocesidiroma.it
X-WR-CALDESC:Eventi per DIOCESI DI ROMA
BEGIN:VEVENT
DTSTART;TZID=Europe/Rome:20231201T193000
DTEND;TZID=Europe/Rome:20231201T193000
DTSTAMP:20260421T043453
CREATED:20231024T123848Z
LAST-MODIFIED:20231127T120234Z
UID:27722-1701459000-1701459000@www.diocesidiroma.it
SUMMARY:Ascoltando i maestri: Vincent van Gogh. Incontro con mons. Andrea Lonardo e Francesca Villanti (Uff. per la pastorale universitaria)
DESCRIPTION:Ascoltando i maestri: Vincent van Gogh. Incontro con mons. Andrea Lonardo e Francesca Villanti (Uff. per la pastorale universitaria) \n
URL:https://www.diocesidiroma.it/event/ascoltando-i-maestri-vincent-van-gogh-incontro-con-mons-andrea-lonardo-e-la-prof-ssa-micol-forti-curatrice-della-collezione-darte-contemporanea-dei-musei-vaticani-uff-per-la-pastorale-u/
CATEGORIES:In Diocesi,Iniziative degli Uffici
END:VEVENT
END:VCALENDAR