BEGIN:VCALENDAR
VERSION:2.0
PRODID:-//DIOCESI DI ROMA - ECPv4.6.14.1//NONSGML v1.0//EN
CALSCALE:GREGORIAN
METHOD:PUBLISH
X-WR-CALNAME:DIOCESI DI ROMA
X-ORIGINAL-URL:https://www.diocesidiroma.it
X-WR-CALDESC:Eventi per DIOCESI DI ROMA
BEGIN:VEVENT
DTSTART;VALUE=DATE:20260611
DTEND;VALUE=DATE:20260612
DTSTAMP:20260421T013828
CREATED:20250919T080008Z
LAST-MODIFIED:20250919T080019Z
UID:37325-1781136000-1781222399@www.diocesidiroma.it
SUMMARY:Assemblea di settore
DESCRIPTION:Assemblea di settore \n
URL:https://www.diocesidiroma.it/event/assemblea-di-settore-2/
CATEGORIES:In Diocesi
END:VEVENT
END:VCALENDAR