BEGIN:VCALENDAR
VERSION:2.0
PRODID:-//DIOCESI DI ROMA - ECPv4.6.14.1//NONSGML v1.0//EN
CALSCALE:GREGORIAN
METHOD:PUBLISH
X-WR-CALNAME:DIOCESI DI ROMA
X-ORIGINAL-URL:https://www.diocesidiroma.it
X-WR-CALDESC:Eventi per DIOCESI DI ROMA
BEGIN:VEVENT
DTSTART;TZID=Europe/Rome:20240127T093000
DTEND;TZID=Europe/Rome:20240127T130000
DTSTAMP:20260422T010618
CREATED:20240102T111226Z
LAST-MODIFIED:20240102T111226Z
UID:28275-1706347800-1706360400@www.diocesidiroma.it
SUMMARY:Assemblea diocesana dei catechisti
DESCRIPTION:Assemblea diocesana dei catechisti  \n
URL:https://www.diocesidiroma.it/event/assemblea-diocesana-dei-catechisti/
CATEGORIES:In Diocesi
END:VEVENT
END:VCALENDAR