BEGIN:VCALENDAR
VERSION:2.0
PRODID:-//DIOCESI DI ROMA - ECPv4.6.14.1//NONSGML v1.0//EN
CALSCALE:GREGORIAN
METHOD:PUBLISH
X-WR-CALNAME:DIOCESI DI ROMA
X-ORIGINAL-URL:https://www.diocesidiroma.it
X-WR-CALDESC:Eventi per DIOCESI DI ROMA
BEGIN:VEVENT
DTSTART;TZID=Europe/Rome:20250913T100000
DTEND;TZID=Europe/Rome:20250913T123000
DTSTAMP:20260422T175904
CREATED:20250910T102358Z
LAST-MODIFIED:20250910T102358Z
UID:36825-1757757600-1757766600@www.diocesidiroma.it
SUMMARY:Assemblea diocesana per i catechisti con il Cardinal Vicario - Basilica di S. Giovanni in Laterano (Uff. per la Catechesi)
DESCRIPTION:Assemblea diocesana per i catechisti con il Cardinal Vicario – Basilica di S. Giovanni in Laterano (Uff. per la Catechesi) \n
URL:https://www.diocesidiroma.it/event/assemblea-diocesana-per-i-catechisti-con-il-cardinal-vicario-basilica-di-s-giovanni-in-laterano-uff-per-la-catechesi/
CATEGORIES:In Diocesi,Iniziative degli Uffici
END:VEVENT
END:VCALENDAR