BEGIN:VCALENDAR
VERSION:2.0
PRODID:-//DIOCESI DI ROMA - ECPv4.6.14.1//NONSGML v1.0//EN
CALSCALE:GREGORIAN
METHOD:PUBLISH
X-WR-CALNAME:DIOCESI DI ROMA
X-ORIGINAL-URL:https://www.diocesidiroma.it
X-WR-CALDESC:Eventi per DIOCESI DI ROMA
BEGIN:VEVENT
DTSTART;VALUE=DATE:20250919
DTEND;VALUE=DATE:20250920
DTSTAMP:20260424T015624
CREATED:20250919T075022Z
LAST-MODIFIED:20250919T075022Z
UID:37297-1758240000-1758326399@www.diocesidiroma.it
SUMMARY:Assemblea diocesana
DESCRIPTION:Assemblea diocesana \n
URL:https://www.diocesidiroma.it/event/assemblea-diocesana/
CATEGORIES:In Diocesi
END:VEVENT
END:VCALENDAR