BEGIN:VCALENDAR
VERSION:2.0
PRODID:-//DIOCESI DI ROMA - ECPv4.6.14.1//NONSGML v1.0//EN
CALSCALE:GREGORIAN
METHOD:PUBLISH
X-WR-CALNAME:DIOCESI DI ROMA
X-ORIGINAL-URL:https://www.diocesidiroma.it
X-WR-CALDESC:Eventi per DIOCESI DI ROMA
BEGIN:VEVENT
DTSTART;TZID=Europe/Rome:20251006T183000
DTEND;TZID=Europe/Rome:20251006T183000
DTSTAMP:20260422T065712
CREATED:20251003T104933Z
LAST-MODIFIED:20251003T104933Z
UID:37622-1759775400-1759775400@www.diocesidiroma.it
SUMMARY:Assemblee nei settori
DESCRIPTION:Assemblee nei settori \n
URL:https://www.diocesidiroma.it/event/assemblee-nei-settori/
CATEGORIES:Vicario Generale
END:VEVENT
END:VCALENDAR