BEGIN:VCALENDAR
VERSION:2.0
PRODID:-//DIOCESI DI ROMA - ECPv4.6.14.1//NONSGML v1.0//EN
CALSCALE:GREGORIAN
METHOD:PUBLISH
X-WR-CALNAME:DIOCESI DI ROMA
X-ORIGINAL-URL:https://www.diocesidiroma.it
X-WR-CALDESC:Eventi per DIOCESI DI ROMA
BEGIN:VEVENT
DTSTART;TZID=Europe/Rome:20250602T100000
DTEND;TZID=Europe/Rome:20250602T100000
DTSTAMP:20260422T220132
CREATED:20250530T090807Z
LAST-MODIFIED:20250530T090807Z
UID:35874-1748858400-1748858400@www.diocesidiroma.it
SUMMARY:Assiste alla celebrazione in occasione del LXXIX anniversario della proclamazione della Repubblica Italiana
DESCRIPTION:Assiste alla celebrazione in occasione del LXXIX anniversario della proclamazione della Repubblica Italiana \n
URL:https://www.diocesidiroma.it/event/assiste-alla-celebrazione-in-occasione-del-lxxix-anniversario-della-proclamazione-della-repubblica-italiana/
CATEGORIES:Vicario Generale
END:VEVENT
END:VCALENDAR