BEGIN:VCALENDAR
VERSION:2.0
PRODID:-//DIOCESI DI ROMA - ECPv4.6.14.1//NONSGML v1.0//EN
CALSCALE:GREGORIAN
METHOD:PUBLISH
X-WR-CALNAME:DIOCESI DI ROMA
X-ORIGINAL-URL:https://www.diocesidiroma.it
X-WR-CALDESC:Eventi per DIOCESI DI ROMA
BEGIN:VEVENT
DTSTART;TZID=Europe/Rome:20190815T000000
DTEND;TZID=Europe/Rome:20190815T000000
DTSTAMP:20260423T093805
CREATED:20181023T141229Z
LAST-MODIFIED:20181023T141229Z
UID:5325-1565827200-1565827200@www.diocesidiroma.it
SUMMARY:Assunzione della Beata Vergine Maria
DESCRIPTION:Assunzione della Beata Vergine Maria. \n
URL:https://www.diocesidiroma.it/event/assunzione-della-beata-vergine-maria/
CATEGORIES:Ricorrenze
END:VEVENT
END:VCALENDAR