BEGIN:VCALENDAR
VERSION:2.0
PRODID:-//DIOCESI DI ROMA - ECPv4.6.14.1//NONSGML v1.0//EN
CALSCALE:GREGORIAN
METHOD:PUBLISH
X-WR-CALNAME:DIOCESI DI ROMA
X-ORIGINAL-URL:https://www.diocesidiroma.it
X-WR-CALDESC:Eventi per DIOCESI DI ROMA
BEGIN:VEVENT
DTSTART;VALUE=DATE:20260815
DTEND;VALUE=DATE:20260816
DTSTAMP:20260421T062523
CREATED:20251215T104825Z
LAST-MODIFIED:20251215T104825Z
UID:39130-1786752000-1786838399@www.diocesidiroma.it
SUMMARY:ASSUNZIONE DI MARIA SS.
DESCRIPTION:ASSUNZIONE DELLA BETA VERGINE MARIA  \n
URL:https://www.diocesidiroma.it/event/assunzione-di-maria-ss/
CATEGORIES:Ricorrenze
END:VEVENT
END:VCALENDAR