BEGIN:VCALENDAR
VERSION:2.0
PRODID:-//DIOCESI DI ROMA - ECPv4.6.14.1//NONSGML v1.0//EN
CALSCALE:GREGORIAN
METHOD:PUBLISH
X-WR-CALNAME:DIOCESI DI ROMA
X-ORIGINAL-URL:https://www.diocesidiroma.it
X-WR-CALDESC:Eventi per DIOCESI DI ROMA
BEGIN:VEVENT
DTSTART;TZID=Europe/Rome:20251223T123000
DTEND;TZID=Europe/Rome:20251223T123000
DTSTAMP:20260423T014117
CREATED:20251219T095243Z
LAST-MODIFIED:20251219T095243Z
UID:39192-1766493000-1766493000@www.diocesidiroma.it
SUMMARY:Auguri al personale del Vicariato di Roma
DESCRIPTION:Auguri al personale del Vicariato di Roma \n
URL:https://www.diocesidiroma.it/event/auguri-al-personale-del-vicariato-di-roma/
CATEGORIES:Vicario Generale
END:VEVENT
END:VCALENDAR