BEGIN:VCALENDAR
VERSION:2.0
PRODID:-//DIOCESI DI ROMA - ECPv4.6.14.1//NONSGML v1.0//EN
CALSCALE:GREGORIAN
METHOD:PUBLISH
X-WR-CALNAME:DIOCESI DI ROMA
X-ORIGINAL-URL:https://www.diocesidiroma.it
X-WR-CALDESC:Eventi per DIOCESI DI ROMA
BEGIN:VEVENT
DTSTART;TZID=Europe/Rome:20241218T110000
DTEND;TZID=Europe/Rome:20241218T110000
DTSTAMP:20260425T104617
CREATED:20241216T074724Z
LAST-MODIFIED:20241216T074724Z
UID:32570-1734519600-1734519600@www.diocesidiroma.it
SUMMARY:Auguri al personale del Vicariato
DESCRIPTION:Auguri al personale del Vicariato \n
URL:https://www.diocesidiroma.it/event/auguri-al-personale-del-vicariato/
CATEGORIES:Vicario Generale
END:VEVENT
END:VCALENDAR