BEGIN:VCALENDAR
VERSION:2.0
PRODID:-//DIOCESI DI ROMA - ECPv4.6.14.1//NONSGML v1.0//EN
CALSCALE:GREGORIAN
METHOD:PUBLISH
X-WR-CALNAME:DIOCESI DI ROMA
X-ORIGINAL-URL:https://www.diocesidiroma.it
X-WR-CALDESC:Eventi per DIOCESI DI ROMA
BEGIN:VEVENT
DTSTART;TZID=Europe/Rome:20241218T160000
DTEND;TZID=Europe/Rome:20241218T160000
DTSTAMP:20260423T091823
CREATED:20241216T074843Z
LAST-MODIFIED:20241216T074843Z
UID:32574-1734537600-1734537600@www.diocesidiroma.it
SUMMARY:Auguri all’Opera Romana Pellegrinaggi
DESCRIPTION:Auguri all’Opera Romana Pellegrinaggi \n
URL:https://www.diocesidiroma.it/event/auguri-allopera-romana-pellegrinaggi/
CATEGORIES:Vicario Generale
END:VEVENT
END:VCALENDAR