BEGIN:VCALENDAR
VERSION:2.0
PRODID:-//DIOCESI DI ROMA - ECPv4.6.14.1//NONSGML v1.0//EN
CALSCALE:GREGORIAN
METHOD:PUBLISH
X-WR-CALNAME:DIOCESI DI ROMA
X-ORIGINAL-URL:https://www.diocesidiroma.it
X-WR-CALDESC:Eventi per DIOCESI DI ROMA
BEGIN:VEVENT
DTSTART;TZID=Europe/Rome:20250401T083000
DTEND;TZID=Europe/Rome:20250401T190000
DTSTAMP:20260424T160612
CREATED:20250327T105835Z
LAST-MODIFIED:20250327T105835Z
UID:34827-1743496200-1743534000@www.diocesidiroma.it
SUMMARY:Aula Paolo VI – Assemblea Sinodale della Cei
DESCRIPTION:Aula Paolo VI – Assemblea Sinodale della Cei \n
URL:https://www.diocesidiroma.it/event/aula-paolo-vi-assemblea-sinodale-della-cei-2/
CATEGORIES:Vicario Generale
END:VEVENT
END:VCALENDAR