BEGIN:VCALENDAR
VERSION:2.0
PRODID:-//DIOCESI DI ROMA - ECPv4.6.14.1//NONSGML v1.0//EN
CALSCALE:GREGORIAN
METHOD:PUBLISH
X-WR-CALNAME:DIOCESI DI ROMA
X-ORIGINAL-URL:https://www.diocesidiroma.it
X-WR-CALDESC:Eventi per DIOCESI DI ROMA
BEGIN:VEVENT
DTSTART;VALUE=DATE:20260209
DTEND;VALUE=DATE:20260210
DTSTAMP:20260423T220623
CREATED:20250919T091230Z
LAST-MODIFIED:20250919T091230Z
UID:37327-1770595200-1770681599@www.diocesidiroma.it
SUMMARY:Avvio corso per i nuovi Volontari Caritas - II edizione (Uff. Caritas)
DESCRIPTION:Avvio corso per i nuovi Volontari Caritas – II edizione (Uff. Caritas) \n
URL:https://www.diocesidiroma.it/event/avvio-corso-per-i-nuovi-volontari-caritas-ii-edizione-uff-caritas/
CATEGORIES:In Diocesi,Iniziative degli Uffici
END:VEVENT
END:VCALENDAR