BEGIN:VCALENDAR
VERSION:2.0
PRODID:-//DIOCESI DI ROMA - ECPv4.6.14.1//NONSGML v1.0//EN
CALSCALE:GREGORIAN
METHOD:PUBLISH
X-WR-CALNAME:DIOCESI DI ROMA
X-ORIGINAL-URL:https://www.diocesidiroma.it
X-WR-CALDESC:Eventi per DIOCESI DI ROMA
BEGIN:VEVENT
DTSTART;TZID=Europe/Rome:20250402T150000
DTEND;TZID=Europe/Rome:20250402T150000
DTSTAMP:20260424T161119
CREATED:20250327T110054Z
LAST-MODIFIED:20250327T110054Z
UID:34831-1743606000-1743606000@www.diocesidiroma.it
SUMMARY:Basilica di San Pietro\, Messa in occasione del 20° anniversario del ritorno alla Casa del Padre di san Giovanni Paolo II Papa
DESCRIPTION:Basilica di San Pietro\, Messa in occasione del 20° anniversario del ritorno alla Casa del Padre di san Giovanni Paolo II Papa \n
URL:https://www.diocesidiroma.it/event/basilica-di-san-pietro-messa-in-occasione-del-20-anniversario-del-ritorno-alla-casa-del-padre-di-san-giovanni-paolo-ii-papa/
CATEGORIES:Vicario Generale
END:VEVENT
END:VCALENDAR