BEGIN:VCALENDAR
VERSION:2.0
PRODID:-//DIOCESI DI ROMA - ECPv4.6.14.1//NONSGML v1.0//EN
CALSCALE:GREGORIAN
METHOD:PUBLISH
X-WR-CALNAME:DIOCESI DI ROMA
X-ORIGINAL-URL:https://www.diocesidiroma.it
X-WR-CALDESC:Eventi per DIOCESI DI ROMA
BEGIN:VEVENT
DTSTART;TZID=Europe/Rome:20221211T000000
DTEND;TZID=Europe/Rome:20221211T000000
DTSTAMP:20260425T215305
CREATED:20221128T100439Z
LAST-MODIFIED:20221128T100439Z
UID:24298-1670716800-1670716800@www.diocesidiroma.it
SUMMARY:Benedizione dei Bambinelli a San Pietro (Cor)
DESCRIPTION:Benedizione dei Bambinelli a San Pietro (Cor) \n
URL:https://www.diocesidiroma.it/event/benedizione-dei-bambinelli-a-san-pietro-cor/
CATEGORIES:Iniziative degli Uffici
END:VEVENT
END:VCALENDAR