BEGIN:VCALENDAR
VERSION:2.0
PRODID:-//DIOCESI DI ROMA - ECPv4.6.14.1//NONSGML v1.0//EN
CALSCALE:GREGORIAN
METHOD:PUBLISH
X-WR-CALNAME:DIOCESI DI ROMA
X-ORIGINAL-URL:https://www.diocesidiroma.it
X-WR-CALDESC:Eventi per DIOCESI DI ROMA
BEGIN:VEVENT
DTSTART;VALUE=DATE:20180505
DTEND;VALUE=DATE:20180506
DTSTAMP:20260425T024212
CREATED:20171228T135941Z
LAST-MODIFIED:20171228T135941Z
UID:685-1525478400-1525564799@www.diocesidiroma.it
SUMMARY:Cammino dei giovani verso il Sinodo: servizio di carità per i giovani
DESCRIPTION:
URL:https://www.diocesidiroma.it/event/cammino-dei-giovani-verso-il-sinodo-servizio-di-carita-per-i-giovani/
CATEGORIES:Iniziative degli Uffici
END:VEVENT
END:VCALENDAR