BEGIN:VCALENDAR
VERSION:2.0
PRODID:-//DIOCESI DI ROMA - ECPv4.6.14.1//NONSGML v1.0//EN
CALSCALE:GREGORIAN
METHOD:PUBLISH
X-WR-CALNAME:DIOCESI DI ROMA
X-ORIGINAL-URL:https://www.diocesidiroma.it
X-WR-CALDESC:Eventi per DIOCESI DI ROMA
BEGIN:VEVENT
DTSTART;TZID=Europe/Rome:20260608T000000
DTEND;TZID=Europe/Rome:20260613T000000
DTSTAMP:20260421T021233
CREATED:20251030T121253Z
LAST-MODIFIED:20251030T121253Z
UID:38291-1780876800-1781308800@www.diocesidiroma.it
SUMMARY:Campo di servizio per giovani "Ricomincio da te" (Uff. Caritas)
DESCRIPTION:Campo di servizio per giovani “Ricomincio da te” 8 – 13 giugno(Uff. Caritas) \n
URL:https://www.diocesidiroma.it/event/campo-di-servizio-per-giovani-ricomincio-da-te-uff-caritas/
CATEGORIES:In Diocesi,Iniziative degli Uffici
END:VEVENT
END:VCALENDAR