BEGIN:VCALENDAR
VERSION:2.0
PRODID:-//DIOCESI DI ROMA - ECPv4.6.14.1//NONSGML v1.0//EN
CALSCALE:GREGORIAN
METHOD:PUBLISH
X-WR-CALNAME:DIOCESI DI ROMA
X-ORIGINAL-URL:https://www.diocesidiroma.it
X-WR-CALDESC:Eventi per DIOCESI DI ROMA
BEGIN:VEVENT
DTSTART;TZID=Europe/Rome:20190703T000000
DTEND;TZID=Europe/Rome:20190707T000000
DTSTAMP:20260423T031533
CREATED:20181023T140219Z
LAST-MODIFIED:20181023T140219Z
UID:5309-1562112000-1562457600@www.diocesidiroma.it
SUMMARY:Campo diocesano per gli adolescenti delle scuole superiori
DESCRIPTION:Campo diocesano per gli adolescenti delle scuole superiori\, a cura del Servizio per la pastorale giovanile. \n
URL:https://www.diocesidiroma.it/event/campo-diocesano-per-gli-adolescenti-delle-scuole-superiori/
CATEGORIES:Iniziative degli Uffici
END:VEVENT
END:VCALENDAR