BEGIN:VCALENDAR
VERSION:2.0
PRODID:-//DIOCESI DI ROMA - ECPv4.6.14.1//NONSGML v1.0//EN
CALSCALE:GREGORIAN
METHOD:PUBLISH
X-WR-CALNAME:DIOCESI DI ROMA
X-ORIGINAL-URL:https://www.diocesidiroma.it
X-WR-CALDESC:Eventi per DIOCESI DI ROMA
BEGIN:VEVENT
DTSTART;TZID=Europe/Rome:20190708T000000
DTEND;TZID=Europe/Rome:20190712T000000
DTSTAMP:20260422T131427
CREATED:20181023T140415Z
LAST-MODIFIED:20181023T140415Z
UID:5313-1562544000-1562889600@www.diocesidiroma.it
SUMMARY:Campo diocesano per i ragazzi di II e III media
DESCRIPTION:Campo diocesano per i ragazzi di II e III media\, a cura del Servizio per la pastorale giovanile. \n
URL:https://www.diocesidiroma.it/event/campo-diocesano-per-i-ragazzi-di-ii-e-iii-media/
CATEGORIES:Iniziative degli Uffici
END:VEVENT
END:VCALENDAR