BEGIN:VCALENDAR
VERSION:2.0
PRODID:-//DIOCESI DI ROMA - ECPv4.6.14.1//NONSGML v1.0//EN
CALSCALE:GREGORIAN
METHOD:PUBLISH
X-WR-CALNAME:DIOCESI DI ROMA
X-ORIGINAL-URL:https://www.diocesidiroma.it
X-WR-CALDESC:Eventi per DIOCESI DI ROMA
BEGIN:VEVENT
DTSTART;TZID=Europe/Rome:20200626T000000
DTEND;TZID=Europe/Rome:20200629T000000
DTSTAMP:20260422T131428
CREATED:20200219T092333Z
LAST-MODIFIED:20200219T092351Z
UID:10145-1593129600-1593388800@www.diocesidiroma.it
SUMMARY:Campo itinerante a Padova a cura dell'Ufficio catechistico
DESCRIPTION:Campo itinerante a Padova a cura dell’Ufficio catechistico \n
URL:https://www.diocesidiroma.it/event/campo-itinerante-a-padova-a-cura-dellufficio-catechistico/
CATEGORIES:Iniziative degli Uffici
END:VEVENT
END:VCALENDAR