BEGIN:VCALENDAR
VERSION:2.0
PRODID:-//DIOCESI DI ROMA - ECPv4.6.14.1//NONSGML v1.0//EN
CALSCALE:GREGORIAN
METHOD:PUBLISH
X-WR-CALNAME:DIOCESI DI ROMA
X-ORIGINAL-URL:https://www.diocesidiroma.it
X-WR-CALDESC:Eventi per DIOCESI DI ROMA
BEGIN:VEVENT
DTSTART;TZID=Europe/Rome:20190719T000000
DTEND;TZID=Europe/Rome:20190721T000000
DTSTAMP:20260421T174716
CREATED:20181023T140509Z
LAST-MODIFIED:20181023T140509Z
UID:5315-1563494400-1563667200@www.diocesidiroma.it
SUMMARY:Campo itinerante di formazione per giovani catechisti nelle valli senesi
DESCRIPTION:Campo itinerante di formazione per giovani catechisti nelle valli senesi\, a cura dell’Ufficio catechistico. \n
URL:https://www.diocesidiroma.it/event/campo-itinerante-di-formazione-per-giovani-catechisti-nelle-valli-senesi/
CATEGORIES:Iniziative degli Uffici
END:VEVENT
END:VCALENDAR