BEGIN:VCALENDAR
VERSION:2.0
PRODID:-//DIOCESI DI ROMA - ECPv4.6.14.1//NONSGML v1.0//EN
CALSCALE:GREGORIAN
METHOD:PUBLISH
X-WR-CALNAME:DIOCESI DI ROMA
X-ORIGINAL-URL:https://www.diocesidiroma.it
X-WR-CALDESC:Eventi per DIOCESI DI ROMA
BEGIN:VEVENT
DTSTART;VALUE=DATE:20250907
DTEND;VALUE=DATE:20250908
DTSTAMP:20260423T035017
CREATED:20250910T102309Z
LAST-MODIFIED:20250910T102309Z
UID:36823-1757203200-1757289599@www.diocesidiroma.it
SUMMARY:Canonizzazione di Pier Giorgio Frassati e Carlo Acutis
DESCRIPTION:Canonizzazione di Pier Giorgio Frassati e Carlo Acutis \n
URL:https://www.diocesidiroma.it/event/canonizzazione-di-pier-giorgio-frassati-e-carlo-acutis/
CATEGORIES:Celebrazioni del Santo Padre,Iniziative Giubileo 25
END:VEVENT
END:VCALENDAR