BEGIN:VCALENDAR
VERSION:2.0
PRODID:-//DIOCESI DI ROMA - ECPv4.6.14.1//NONSGML v1.0//EN
CALSCALE:GREGORIAN
METHOD:PUBLISH
X-WR-CALNAME:DIOCESI DI ROMA
X-ORIGINAL-URL:https://www.diocesidiroma.it
X-WR-CALDESC:Eventi per DIOCESI DI ROMA
BEGIN:VEVENT
DTSTART;TZID=Europe/Rome:20181112T190000
DTEND;TZID=Europe/Rome:20181112T190000
DTSTAMP:20260423T164314
CREATED:20180912T152553Z
LAST-MODIFIED:20180912T152553Z
UID:4482-1542049200-1542049200@www.diocesidiroma.it
SUMMARY:Catechesi del cardinale vicario su "Gaudete et exsultate"
DESCRIPTION:Catechesi del cardinale vicario Angelo De Donatis su “Gaudete et exsultate” nella basilica di San Giovanni in Laterano. \n
URL:https://www.diocesidiroma.it/event/catechesi-del-cardinale-vicario-su-gaudete-et-exsultate-2/
CATEGORIES:NON USARE --- Agenda del Vicario
END:VEVENT
END:VCALENDAR