BEGIN:VCALENDAR
VERSION:2.0
PRODID:-//DIOCESI DI ROMA - ECPv4.6.14.1//NONSGML v1.0//EN
CALSCALE:GREGORIAN
METHOD:PUBLISH
X-WR-CALNAME:DIOCESI DI ROMA
X-ORIGINAL-URL:https://www.diocesidiroma.it
X-WR-CALDESC:Eventi per DIOCESI DI ROMA
BEGIN:VEVENT
DTSTART;TZID=Europe/Rome:20190311T190000
DTEND;TZID=Europe/Rome:20190311T190000
DTSTAMP:20260421T153939
CREATED:20181011T075029Z
LAST-MODIFIED:20181011T075029Z
UID:5000-1552330800-1552330800@www.diocesidiroma.it
SUMMARY:Catechesi del cardinale vicario su "Gaudete et exsultate"
DESCRIPTION:Catechesi del cardinale vicario su “Gaudete et exsultate” nella basilica di San Giovanni in Laterano. \n
URL:https://www.diocesidiroma.it/event/catechesi-del-cardinale-vicario-su-gaudete-et-exsultate-4/
CATEGORIES:In Diocesi
END:VEVENT
END:VCALENDAR