BEGIN:VCALENDAR
VERSION:2.0
PRODID:-//DIOCESI DI ROMA - ECPv4.6.14.1//NONSGML v1.0//EN
CALSCALE:GREGORIAN
METHOD:PUBLISH
X-WR-CALNAME:DIOCESI DI ROMA
X-ORIGINAL-URL:https://www.diocesidiroma.it
X-WR-CALDESC:Eventi per DIOCESI DI ROMA
BEGIN:VEVENT
DTSTART;TZID=Europe/Rome:20181210T000000
DTEND;TZID=Europe/Rome:20181210T000000
DTSTAMP:20260422T060429
CREATED:20180918T124136Z
LAST-MODIFIED:20180918T124136Z
UID:4663-1544400000-1544400000@www.diocesidiroma.it
SUMMARY:Catechesi del cardinale vicario su "Guadete et exsultate"
DESCRIPTION:Catechesi del cardinale vicario Angelo De Donatis su “Guadete et exsultate” nella basilica di San Giovanni in Laterano. \n
URL:https://www.diocesidiroma.it/event/catechesi-del-cardinale-vicario-su-guadete-et-exsultate/
CATEGORIES:NON USARE --- Agenda del Vicario
END:VEVENT
END:VCALENDAR