BEGIN:VCALENDAR
VERSION:2.0
PRODID:-//DIOCESI DI ROMA - ECPv4.6.14.1//NONSGML v1.0//EN
CALSCALE:GREGORIAN
METHOD:PUBLISH
X-WR-CALNAME:DIOCESI DI ROMA
X-ORIGINAL-URL:https://www.diocesidiroma.it
X-WR-CALDESC:Eventi per DIOCESI DI ROMA
BEGIN:VEVENT
DTSTART;TZID=Europe/Rome:20201105T190000
DTEND;TZID=Europe/Rome:20201105T190000
DTSTAMP:20260424T215116
CREATED:20200923T152726Z
LAST-MODIFIED:20200923T160927Z
UID:11764-1604602800-1604602800@www.diocesidiroma.it
SUMMARY:Catechesi per i missionari di ambiente a Santa Maria ai Monti
DESCRIPTION:Catechesi per i missionari di ambiente a Santa Maria ai Monti\, a cura dell’Ufficio per la pastorale sociale.  \n
URL:https://www.diocesidiroma.it/event/catechesi-per-i-missionari-di-ambiente-a-santa-maria-ai-monti-2/
CATEGORIES:Iniziative degli Uffici
END:VEVENT
END:VCALENDAR