BEGIN:VCALENDAR
VERSION:2.0
PRODID:-//DIOCESI DI ROMA - ECPv4.6.14.1//NONSGML v1.0//EN
CALSCALE:GREGORIAN
METHOD:PUBLISH
X-WR-CALNAME:DIOCESI DI ROMA
X-ORIGINAL-URL:https://www.diocesidiroma.it
X-WR-CALDESC:Eventi per DIOCESI DI ROMA
BEGIN:VEVENT
DTSTART;TZID=Europe/Rome:20260303T183000
DTEND;TZID=Europe/Rome:20260303T183000
DTSTAMP:20260421T052636
CREATED:20260226T105323Z
LAST-MODIFIED:20260226T105333Z
UID:40203-1772562600-1772562600@www.diocesidiroma.it
SUMMARY:Catechesi quaresimale per le comunità della XXIX prefettura presso la parrocchia Santi Aquila e Priscilla
DESCRIPTION:Catechesi quaresimale per le comunità della XXIX prefettura presso la parrocchia Santi Aquila e Priscilla \n
URL:https://www.diocesidiroma.it/event/catechesi-quaresimale-per-le-comunita-della-xxix-prefettura-presso-la-parrocchia-santi-aquila-e-priscilla/
CATEGORIES:Vicario Generale
END:VEVENT
END:VCALENDAR