BEGIN:VCALENDAR
VERSION:2.0
PRODID:-//DIOCESI DI ROMA - ECPv4.6.14.1//NONSGML v1.0//EN
CALSCALE:GREGORIAN
METHOD:PUBLISH
X-WR-CALNAME:DIOCESI DI ROMA
X-ORIGINAL-URL:https://www.diocesidiroma.it
X-WR-CALDESC:Eventi per DIOCESI DI ROMA
BEGIN:VEVENT
DTSTART;TZID=Europe/Rome:20190107T190000
DTEND;TZID=Europe/Rome:20190107T190000
DTSTAMP:20260423T174824
CREATED:20181009T065606Z
LAST-MODIFIED:20181225T074155Z
UID:4888-1546887600-1546887600@www.diocesidiroma.it
SUMMARY:Catechesi sulla "Gaudete et exsultate" a San Giovanni in Laterano
DESCRIPTION:Catechesi sulla “Gaudete et exsultate” a San Giovanni in Laterano\, con il cardinale vicario Angelo De Donatis e monsignor Marco Frisina. \n
URL:https://www.diocesidiroma.it/event/catechesi-sulla-gaudete-et-exsultate-a-san-giovanni-in-laterano/
CATEGORIES:NON USARE --- Agenda del Vicario
END:VEVENT
END:VCALENDAR