BEGIN:VCALENDAR
VERSION:2.0
PRODID:-//DIOCESI DI ROMA - ECPv4.6.14.1//NONSGML v1.0//EN
CALSCALE:GREGORIAN
METHOD:PUBLISH
X-WR-CALNAME:DIOCESI DI ROMA
X-ORIGINAL-URL:https://www.diocesidiroma.it
X-WR-CALDESC:Eventi per DIOCESI DI ROMA
BEGIN:VEVENT
DTSTART;VALUE=DATE:20200222
DTEND;VALUE=DATE:20200223
DTSTAMP:20260422T193100
CREATED:20190925T144530Z
LAST-MODIFIED:20190925T144530Z
UID:8756-1582329600-1582415999@www.diocesidiroma.it
SUMMARY:Cattedra di San Pietro. Festa della Madonna della Fiducia
DESCRIPTION:Cattedra di San Pietro. Festa della Madonna della Fiducia \n
URL:https://www.diocesidiroma.it/event/cattedra-di-san-pietro-festa-della-madonna-della-fiducia/
CATEGORIES:Ricorrenze
END:VEVENT
END:VCALENDAR