BEGIN:VCALENDAR
VERSION:2.0
PRODID:-//DIOCESI DI ROMA - ECPv4.6.14.1//NONSGML v1.0//EN
CALSCALE:GREGORIAN
METHOD:PUBLISH
X-WR-CALNAME:DIOCESI DI ROMA
X-ORIGINAL-URL:https://www.diocesidiroma.it
X-WR-CALDESC:Eventi per DIOCESI DI ROMA
BEGIN:VEVENT
DTSTART;VALUE=DATE:20180222
DTEND;VALUE=DATE:20180223
DTSTAMP:20260424T092553
CREATED:20171228T133051Z
LAST-MODIFIED:20171228T133051Z
UID:580-1519257600-1519343999@www.diocesidiroma.it
SUMMARY:CATTEDRA DI SAN PIETRO
DESCRIPTION:
URL:https://www.diocesidiroma.it/event/cattedra-di-san-pietro/
CATEGORIES:Ricorrenze
END:VEVENT
END:VCALENDAR