BEGIN:VCALENDAR
VERSION:2.0
PRODID:-//DIOCESI DI ROMA - ECPv4.6.14.1//NONSGML v1.0//EN
CALSCALE:GREGORIAN
METHOD:PUBLISH
X-WR-CALNAME:DIOCESI DI ROMA
X-ORIGINAL-URL:https://www.diocesidiroma.it
X-WR-CALDESC:Eventi per DIOCESI DI ROMA
BEGIN:VEVENT
DTSTART;TZID=Europe/Rome:20250927T090000
DTEND;TZID=Europe/Rome:20250927T090000
DTSTAMP:20260422T151359
CREATED:20250919T072817Z
LAST-MODIFIED:20250919T072817Z
UID:37283-1758963600-1758963600@www.diocesidiroma.it
SUMMARY:Celebra a San Carlo al Corso per la Scuola San Giuseppe - De Merode
DESCRIPTION:Celebra a San Carlo al Corso per la Scuola San Giuseppe – De Merode \n
URL:https://www.diocesidiroma.it/event/celebra-a-san-carlo-al-corso-per-la-scuola-san-giuseppe-de-merode/
CATEGORIES:Vicario Generale
END:VEVENT
END:VCALENDAR