BEGIN:VCALENDAR
VERSION:2.0
PRODID:-//DIOCESI DI ROMA - ECPv4.6.14.1//NONSGML v1.0//EN
CALSCALE:GREGORIAN
METHOD:PUBLISH
X-WR-CALNAME:DIOCESI DI ROMA
X-ORIGINAL-URL:https://www.diocesidiroma.it
X-WR-CALDESC:Eventi per DIOCESI DI ROMA
BEGIN:VEVENT
DTSTART;TZID=Europe/Rome:20241213T170000
DTEND;TZID=Europe/Rome:20241213T170000
DTSTAMP:20260422T183201
CREATED:20241206T150807Z
LAST-MODIFIED:20241206T150837Z
UID:32416-1734109200-1734109200@www.diocesidiroma.it
SUMMARY:Celebra a San Giovanni in Laterano la Missa pro Natione Gallica
DESCRIPTION:Celebra a San Giovanni in Laterano la Missa pro Natione Gallica \n
URL:https://www.diocesidiroma.it/event/celebra-a-san-giovanni-in-laterano-la-missa-pro-natione-gallica/
CATEGORIES:Vicario Generale
END:VEVENT
END:VCALENDAR