BEGIN:VCALENDAR
VERSION:2.0
PRODID:-//DIOCESI DI ROMA - ECPv4.6.14.1//NONSGML v1.0//EN
CALSCALE:GREGORIAN
METHOD:PUBLISH
X-WR-CALNAME:DIOCESI DI ROMA
X-ORIGINAL-URL:https://www.diocesidiroma.it
X-WR-CALDESC:Eventi per DIOCESI DI ROMA
BEGIN:VEVENT
DTSTART;TZID=Europe/Rome:20190307T180000
DTEND;TZID=Europe/Rome:20190307T180000
DTSTAMP:20260423T190608
CREATED:20190301T073226Z
LAST-MODIFIED:20190301T073304Z
UID:6860-1551981600-1551981600@www.diocesidiroma.it
SUMMARY:Celebra la Messa a Palazzo Ponziani nella memoria di santa Francesca Romana
DESCRIPTION:Celebra la Messa a Palazzo Ponziani nella memoria di santa Francesca Romana. \n
URL:https://www.diocesidiroma.it/event/celebra-la-messa-a-palazzo-ponziani-nella-memoria-di-santa-francesca-romana/
CATEGORIES:NON USARE --- Agenda del Vicario
END:VEVENT
END:VCALENDAR