BEGIN:VCALENDAR
VERSION:2.0
PRODID:-//DIOCESI DI ROMA - ECPv4.6.14.1//NONSGML v1.0//EN
CALSCALE:GREGORIAN
METHOD:PUBLISH
X-WR-CALNAME:DIOCESI DI ROMA
X-ORIGINAL-URL:https://www.diocesidiroma.it
X-WR-CALDESC:Eventi per DIOCESI DI ROMA
BEGIN:VEVENT
DTSTART;TZID=Europe/Rome:20190527T163000
DTEND;TZID=Europe/Rome:20190527T170000
DTSTAMP:20260423T001626
CREATED:20190527T093554Z
LAST-MODIFIED:20190527T093554Z
UID:7665-1558974600-1558976400@www.diocesidiroma.it
SUMMARY:Celebra la Messa a S. Ignazio di Loyola
DESCRIPTION:Insieme alla Comunità della Pontificia Università Gregoriana celebra la Messa a Sant’Ignazio di Loyola in rendimento di grazie a conclusione dell’Anno Accademico. \n
URL:https://www.diocesidiroma.it/event/celebra-la-messa-a-s-ignazio-di-loyola/
CATEGORIES:NON USARE --- Agenda del Vicario
END:VEVENT
END:VCALENDAR